
BEGIN:VCALENDAR
VERSION:2.0
PRODID:-//jEvents 1.5 for Joomla//EN
BEGIN:VEVENT
UID:43bc380d95756777ddc52bc87ea5dcc9
CATEGORIES:Congresos y Jornadas externos
SUMMARY:Jornada "La realidad jurídica de las personas con discapacidad intelectual"
LOCATION:
DESCRIPTION;ENCODING=QUOTED-PRINTABLE:\n\nEl próximo 27 de noviembre tiene lugar la jornada "La realidad jurídi
 ca de las personas con discapacidad intelectual", que organiza Plena Inclus
 ión Extremadura en colaboración con la Fiscalía de Badajoz, el Ilustre C
 olegio de Abogados de badajoz y la Fundación Magdalena Moriche.\n\n\nLa jo
 rnada tendrá lugar en la sede del ICABA (C/ Martín Cansado, 1. Badajoz) y
  su inscripción es gratuita.\n\n\nAsiste el asesor jurídico de FUTUEX, D.
  Tomás Salas Chaves.\n\n\n\n\n\n\nLugar: ICABA. C/ Martín Cansado, 1. Bad
 ajoz\n\n\nFecha: 27 de noviembre de 2018\n\n\nHora: 17.00 horas\n\n\nEntida
 d organizadora: Plena Inclusión Extremadura\n

DTSTART:20181127T170000
DTEND:20181127T210000
SEQUENCE:0
TRANSP:OPAQUE
END:VEVENT
END:VCALENDAR