
BEGIN:VCALENDAR
VERSION:2.0
PRODID:-//jEvents 1.5 for Joomla//EN
BEGIN:VEVENT
UID:e643fa1d977d94180bc9af42cf32db3a
CATEGORIES:Congresos y Jornadas externos
SUMMARY:Jornada sobre Capacidad Vulnerable e Integración Jurídica
LOCATION:
DESCRIPTION;ENCODING=QUOTED-PRINTABLE:\n\nEl próximo día 19 de marzo, a las 16.30 horas, tiene lugar en Cácere
 s una jornada de formación, titulada "capacidad vulnerable e integración 
 jurídica", organizada por el Iltre. Colegio de Abogados de Cáceres.\n\n\n
 Asiste a la jornada don Tomás Salas, letrado de FUTUEX.\n\n\n\n\n\n\nLocal
 ización: Complejo Cultural San Francisco, Sala Europa. Cáceres\n\n\nFecha
 : 19 de marzo de 2019\n\n\nHora: 16.30 horas\n\n\nEnitdad organizadora: ICA
 C\n

DTSTART:20190319T163000
DTEND:20190319T194500
SEQUENCE:0
TRANSP:OPAQUE
END:VEVENT
END:VCALENDAR