
BEGIN:VCALENDAR
VERSION:2.0
PRODID:-//jEvents 1.5 for Joomla//EN
BEGIN:VEVENT
UID:da061428cb958804316b4705c085e922
CATEGORIES:Congresos y Jornadas externos
SUMMARY:2º Encuentro de familias ASPACE
LOCATION:
DESCRIPTION;ENCODING=QUOTED-PRINTABLE:\n\nDespués del I Encuentro de familias ASPACE que tuvo lugar el pasado 2 
 de diciembre de 2017 en el Hotel Barceló V Centenario de Cáceres, la Fede
 ración ASPACE organiza el II Encuentro, como un proyecto de unión, cooper
 ación, diálogo, convivencia y diversión.\n\n\nEl Encuentro será el sáb
 ado, 20 de octubre de 2018, en Badajoz.\n\n\nEn él tendrán lugar diversos
  talleres, posteriormente habrá una comida y finalmente un baile.\n\n\nFUT
 UEX participa en un taller charla a las familias sobre modificación de la 
 capacidad y tutela.\n\n\n\n\n\n\nLocalización: Badajoz\n\n\nFecha: 20 de o
 ctubre de 2018.\n\n\nEntidad organizadora: Federación ASPACE\n

DTSTART:20181020T080000
DTEND:20181020T150000
SEQUENCE:0
TRANSP:OPAQUE
END:VEVENT
END:VCALENDAR