
BEGIN:VCALENDAR
VERSION:2.0
PRODID:-//jEvents 1.5 for Joomla//EN
BEGIN:VEVENT
UID:bd1919413be0e827af00fab7400f9f37
CATEGORIES:Charlas informativas
SUMMARY:Charla  sobre modificaciÃ³n de capacidad y tutela
LOCATION:
DESCRIPTION;ENCODING=QUOTED-PRINTABLE:\n\nEl 5 de junio a las 17.30 horas tiene lugar una charla sobre "Modificac
 iÃ³n de capacidad y tutela: trÃ¡mites y documentaciÃ³n necesaria", en la se
 de de Plena InclusiÃ³n Montijo, impartida por el letrado de FUTUEX, D. TomÃ
 ¡s Salas Chaves.\n\n\n\n\n\n\nLocalizaciÃ³n: Cl. Carlos I, 9. 06480 Montijo
 .\n\n\nFecha: 5 de junio de 2017\n\n\nHora: 17.30 horas\n\n\nOrganizan: Ple
 na InclusiÃ³n Montijo y FUTUEX\n

DTSTART:20170605T173000
DTEND:20170605T200000
SEQUENCE:0
TRANSP:OPAQUE
END:VEVENT
END:VCALENDAR