
BEGIN:VCALENDAR
VERSION:2.0
PRODID:-//jEvents 1.5 for Joomla//EN
BEGIN:VEVENT
UID:0670d6316121af7ebdce18ff59a02a1a
CATEGORIES:Charlas informativas
SUMMARY:Charla sobre los ingresos no voluntarios en materia legal
LOCATION:
DESCRIPTION;ENCODING=QUOTED-PRINTABLE:\n\nEl 4 de mayo de 2017 a las 19.30 horas, el letrado de FUTUEX, D. Tomás
  Salas Chaves, imparte una charla informativa dirigida a familiares de pers
 onas con Alzheimer y otras enfermedades afines, en AFAEX.\n\n\n\n\n\n\nLoca
 lización: Sede de AFAEX-Asociación Extremeña de Familiares de personas c
 on Alzheimer y otras enfermedades afines. Av. María Auxiliadora, 2. Badajo
 z\n\n\nHora: 19.30 horas\n\n\nFecha: 4 de mayo de 2017\n\n\nOrganizan: AFAE
 X y FUTUEX\n

DTSTART:20170504T193000
DTEND:20170504T150000
SEQUENCE:0
TRANSP:OPAQUE
END:VEVENT
END:VCALENDAR