
BEGIN:VCALENDAR
VERSION:2.0
PRODID:-//jEvents 1.5 for Joomla//EN
BEGIN:VEVENT
UID:83ae5b4f823c3eccb2fefa7cca8fa705
CATEGORIES:Charlas informativas
SUMMARY:Charla sobre procedimiento de modificación de la capacidad
LOCATION:
DESCRIPTION;ENCODING=QUOTED-PRINTABLE:\n\nEl 30 de enero a las 17.30 horas tiene lugar una charla sobre "La tutel
 a de personas con capacidad modificada judicialmente: obligaciones y derech
 os del tutor", en la sala de reuniones de la Asociación en Defensa del Dis
 capacitado de Zalamea de la Serena, dirigida a la escuela de Padres. La cha
 rla será impartida por Tomás Salas Chaves, letrado de FUTUEX y asesor jur
 ídico de la Oficina para la Defensa de los Derechos de las Personas con Di
 scapacidad en Extremadura.\n\n\n\n\n\n\nLocalización: Sala de reuniones de
  la Asociación en Defensa del Discapacitado de Zalamea de la Serena.\n\n\n
 Fecha: 30 de enero de 2017.\n\n\nHora: 17.30 horas.\n\n\nEntidades organiza
 doras: Asociación en Defensa del Discapacitado de Zalamea de la Serena y F
 UTUEX.\n

DTSTART:20170130T173000
DTEND:20170130T150000
SEQUENCE:0
TRANSP:OPAQUE
END:VEVENT
END:VCALENDAR