
BEGIN:VCALENDAR
VERSION:2.0
PRODID:-//jEvents 1.5 for Joomla//EN
BEGIN:VEVENT
UID:2e2f01ea323463d21d1af9c25c0ce513
CATEGORIES:Congresos y Jornadas externos
SUMMARY:Fórum Europa con D. Carlos Susías, Presidente de la Red Europea de Lucha contra la Pobreza y la Exclusión Social en el Estado Español
LOCATION:
DESCRIPTION;ENCODING=QUOTED-PRINTABLE:\n\nDesayuno informativo del Fórum Europa organizado por Nueva Economía F
 órum, con el patrocinio de Red Eléctrica de España, Asisa y BT. Asiste e
 l Presidente de FUTUEX, D. José-Luis de Pedro Moro.\n\n\n\n\n\n\nLocalizac
 ión: Hotel Ritz de Madrid, salón Real.\n\n\nFecha: 14 de octubre de 2016.
 \n\n\nHora: 9.00 horas\n\n\nEntidad organizadora: Nueva Economía Fórum.\n

DTSTART:20161014T090000
DTEND:20161014T150000
SEQUENCE:0
TRANSP:OPAQUE
END:VEVENT
END:VCALENDAR